BEGIN:VCALENDAR
VERSION:2.0
PRODID:-//Mount Penn Preserve - ECPv6.15.20//NONSGML v1.0//EN
CALSCALE:GREGORIAN
METHOD:PUBLISH
X-ORIGINAL-URL:https://mtpennpreserve.org
X-WR-CALDESC:Events for Mount Penn Preserve
REFRESH-INTERVAL;VALUE=DURATION:PT1H
X-Robots-Tag:noindex
X-PUBLISHED-TTL:PT1H
BEGIN:VTIMEZONE
TZID:UTC
BEGIN:STANDARD
TZOFFSETFROM:+0000
TZOFFSETTO:+0000
TZNAME:UTC
DTSTART:20240101T000000
END:STANDARD
END:VTIMEZONE
BEGIN:VEVENT
DTSTART;TZID=UTC:20250309T110000
DTEND;TZID=UTC:20250309T110000
DTSTAMP:20260422T042354
CREATED:20250121T150658Z
LAST-MODIFIED:20250121T151927Z
UID:1093-1741518000-1741518000@mtpennpreserve.org
SUMMARY:Annual AVCP Community Dinner
DESCRIPTION:Our 12th annual community dinner of chili\, golumpki\, and kielbasa/halushki will be held on March 9. This fundraising event benefits the AVCP’s scholarship fund for local students. Follow us on Facebook for more announcements when pre-orders open.
URL:https://mtpennpreserve.org/event/annual-avcp-community-dinner/
LOCATION:PA
CATEGORIES:Antietam Valley Community Partnership
ATTACH;FMTTYPE=image/jpeg:https://mtpennpreserve.org/wp-content/uploads/2025/01/AVCP-Community-Dinner.jpg
END:VEVENT
BEGIN:VEVENT
DTSTART;TZID=UTC:20250311T183000
DTEND;TZID=UTC:20250311T183000
DTSTAMP:20260422T042354
CREATED:20250121T150814Z
LAST-MODIFIED:20250121T151914Z
UID:1096-1741717800-1741717800@mtpennpreserve.org
SUMMARY:AVCP Community Meeting
DESCRIPTION:The AVCP board meeting dates are typically the second Tuesday of EVERY month at 6:30 P.M.\, unless otherwise specified. Please check the AVCP Facebook page for any changes/updates.\nJoin us and share your ideas\, sign up as a volunteer. Just stop by to say “hello”! We’d love to meet you.\nMeetings will take place in Miller Hall*\, Trinity UCC \, 2449 Cumberland Avenue\, Mount Penn (unless otherwise noted). Enter on Cumberland Street side.\n\n2025 MEETINGSJanuary 14February 11March 11April 8May 13June 10July 8August 12September 9October 14November 11December 9
URL:https://mtpennpreserve.org/event/avcp-community-meeting-2/
LOCATION:Trinity United Church of Christ\, Mt. Penn\, 2449 Cumberland Avenue\, Reading\, PA\, 19606\, United States
CATEGORIES:Antietam Valley Community Partnership
ATTACH;FMTTYPE=image/jpeg:https://mtpennpreserve.org/wp-content/uploads/2025/01/AVCP.jpg
END:VEVENT
END:VCALENDAR