BEGIN:VCALENDAR
VERSION:2.0
PRODID:-//Mount Penn Preserve - ECPv6.15.20//NONSGML v1.0//EN
CALSCALE:GREGORIAN
METHOD:PUBLISH
X-ORIGINAL-URL:https://mtpennpreserve.org
X-WR-CALDESC:Events for Mount Penn Preserve
REFRESH-INTERVAL;VALUE=DURATION:PT1H
X-Robots-Tag:noindex
X-PUBLISHED-TTL:PT1H
BEGIN:VTIMEZONE
TZID:UTC
BEGIN:STANDARD
TZOFFSETFROM:+0000
TZOFFSETTO:+0000
TZNAME:UTC
DTSTART:20240101T000000
END:STANDARD
END:VTIMEZONE
BEGIN:VEVENT
DTSTART;TZID=UTC:20250810T120000
DTEND;TZID=UTC:20250810T140000
DTSTAMP:20260421T215910
CREATED:20250805T192646Z
LAST-MODIFIED:20250805T192646Z
UID:1311-1754827200-1754834400@mtpennpreserve.org
SUMMARY:Summer Community Dinner
DESCRIPTION:Taking orders NOW!!https://antietamvalley.org/summer-community-dinner/\nSummer Community Dinner\, August 10. Trinity UCC. Menu to include: Rice and peas with pork\, empanadas\, flan and more!
URL:https://mtpennpreserve.org/event/summer-community-dinner/
LOCATION:Trinity United Church of Christ\, Mt. Penn\, 2449 Cumberland Avenue\, Reading\, PA\, 19606\, United States
CATEGORIES:Antietam Valley Community Partnership
ATTACH;FMTTYPE=image/jpeg:https://mtpennpreserve.org/wp-content/uploads/2025/08/AVCP-Summer-Dinner.jpg
END:VEVENT
END:VCALENDAR