BEGIN:VCALENDAR
VERSION:2.0
PRODID:-//Mount Penn Preserve - ECPv6.15.20//NONSGML v1.0//EN
CALSCALE:GREGORIAN
METHOD:PUBLISH
X-WR-CALNAME:Mount Penn Preserve
X-ORIGINAL-URL:https://mtpennpreserve.org
X-WR-CALDESC:Events for Mount Penn Preserve
REFRESH-INTERVAL;VALUE=DURATION:PT1H
X-Robots-Tag:noindex
X-PUBLISHED-TTL:PT1H
BEGIN:VTIMEZONE
TZID:UTC
BEGIN:STANDARD
TZOFFSETFROM:+0000
TZOFFSETTO:+0000
TZNAME:UTC
DTSTART:20240101T000000
END:STANDARD
END:VTIMEZONE
BEGIN:VEVENT
DTSTART;TZID=UTC:20250816T210000
DTEND;TZID=UTC:20250816T230000
DTSTAMP:20260421T220521
CREATED:20250805T194916Z
LAST-MODIFIED:20250805T194916Z
UID:1326-1755378000-1755385200@mtpennpreserve.org
SUMMARY:Movie Night in the A Field
DESCRIPTION:Summer Movies at the A field\, hosted by AVCP:July 12: ShrekJuly 26: Elf (Christmas in July)August 16: Wild Robot\n\nJoin us for a community movie at the A field on the big screen under the stars. Bring your blankets or lawn chairs and settle in for an outdoor movie night provided by AVCP. Bring your neighbors\, family and friends. All are welcome! Snacks will be available for purchase. Concession stand opens at 7PM.\nThe movie titles were decided by voting by the community at the Antietam Farmer’s markets! Thank you for your vote!
URL:https://mtpennpreserve.org/event/movie-night-in-the-a-field/
LOCATION:Antietam A Field\, 2612 Prospect Street\, Reading\, PA\, 19606\, United States
CATEGORIES:Antietam Valley Community Partnership
ATTACH;FMTTYPE=image/jpeg:https://mtpennpreserve.org/wp-content/uploads/2025/08/AVCP-Movie-Night-at-A-Field.jpg
END:VEVENT
END:VCALENDAR