BEGIN:VCALENDAR
VERSION:2.0
PRODID:-//Mount Penn Preserve - ECPv6.15.20//NONSGML v1.0//EN
CALSCALE:GREGORIAN
METHOD:PUBLISH
X-WR-CALNAME:Mount Penn Preserve
X-ORIGINAL-URL:https://mtpennpreserve.org
X-WR-CALDESC:Events for Mount Penn Preserve
REFRESH-INTERVAL;VALUE=DURATION:PT1H
X-Robots-Tag:noindex
X-PUBLISHED-TTL:PT1H
BEGIN:VTIMEZONE
TZID:UTC
BEGIN:STANDARD
TZOFFSETFROM:+0000
TZOFFSETTO:+0000
TZNAME:UTC
DTSTART:20240101T000000
END:STANDARD
END:VTIMEZONE
BEGIN:VEVENT
DTSTART;TZID=UTC:20250515T180000
DTEND;TZID=UTC:20250515T200000
DTSTAMP:20260420T080246
CREATED:20250404T163945Z
LAST-MODIFIED:20250404T163945Z
UID:1240-1747332000-1747339200@mtpennpreserve.org
SUMMARY:BAMBA Intro to MTB Ride #3- Twisted Sister and Wizard of Oz
DESCRIPTION:Join us for this year’s progressive ride series. Each ride gradually increases in duration and technical terrain. The Intro to MTB rides are free and open to everyone. Attend one ride or all of them!\n\nIntro Ride #3: Meet at Angora Fruit Farm\, we’ll ride two different trails; Twisted Sister & Wizard of Oz\, if time allows we’ll stop and session some of the sections along the way. These trails have some technical features.\n\nPlease sign our liability waiver prior to ride…https://forms.gle/TV6zgkoqSTsKBtVm7
URL:https://mtpennpreserve.org/event/bamba-intro-to-mtb-ride-3-twisted-sister-and-wizard-of-oz/
LOCATION:Angora Fruit Farm\, 502 Angora Road\, Reading\, PA\, 19506\, United States
CATEGORIES:BAMBA
ATTACH;FMTTYPE=image/jpeg:https://mtpennpreserve.org/wp-content/uploads/2025/04/BAMBA-Group.jpg
END:VEVENT
BEGIN:VEVENT
DTSTART;TZID=UTC:20250522T180000
DTEND;TZID=UTC:20250522T200000
DTSTAMP:20260420T080246
CREATED:20250404T175105Z
LAST-MODIFIED:20250404T175105Z
UID:1246-1747936800-1747944000@mtpennpreserve.org
SUMMARY:BAMBA Intro to MTB Ride #4
DESCRIPTION:Join us for this year’s progressive ride series. Each ride gradually increases in duration and technical terrain. The Intro to MTB rides are free and open to everyone. Attend one ride or all of them!\n\nIntro Ride #3: Meet at BAMBA Lot\, we’ll start out with a short fix a flat class and a gear review. Then we’ll ride some shorter loop from the BAMBA Lot\, if time allows\, we’ll session some sections along the way.\n\nPlease sign our liability waiver prior to ride…https://forms.gle/TV6zgkoqSTsKBtVm7\n\nHELMETS REQUIRED
URL:https://mtpennpreserve.org/event/bamba-intro-to-mtb-ride-4/
LOCATION:BAMBA Trailhead\, 2 List Road\, Reading\, PA\, 19606\, United States
CATEGORIES:BAMBA
ATTACH;FMTTYPE=image/jpeg:https://mtpennpreserve.org/wp-content/uploads/2025/04/BAMBA-Group.jpg
END:VEVENT
BEGIN:VEVENT
DTSTART;TZID=UTC:20250531T100000
DTEND;TZID=UTC:20250531T120000
DTSTAMP:20260420T080246
CREATED:20250404T175258Z
LAST-MODIFIED:20250404T175258Z
UID:1248-1748685600-1748692800@mtpennpreserve.org
SUMMARY:BAMBA Intro to MTB Ride #6- Intro to MTB Graduation and Potluck BBQ
DESCRIPTION:Join us for this year’s progressive ride series. Each ride gradually increases in duration and technical terrain. The Intro to MTB rides are free and open to everyone. Attend one ride or all of them!\n\nIntro Ride #6- Intro to MTB Graduation!!!!! We’ll ride a longer loop from the BAMBA Lot and celebrate post ride with a potluck BBQ!!!\n\nPlease sign our liability waiver prior to ride…https://forms.gle/TV6zgkoqSTsKBtVm7\n\nHELMETS REQUIRED
URL:https://mtpennpreserve.org/event/bamba-intro-to-mtb-ride-6-intro-to-mtb-graduation-and-potluck-bbq/
LOCATION:BAMBA Trailhead\, 2 List Road\, Reading\, PA\, 19606\, United States
CATEGORIES:BAMBA
ATTACH;FMTTYPE=image/jpeg:https://mtpennpreserve.org/wp-content/uploads/2025/04/BAMBA-Group.jpg
END:VEVENT
END:VCALENDAR