BEGIN:VCALENDAR
VERSION:2.0
PRODID:-//Mount Penn Preserve - ECPv6.15.20//NONSGML v1.0//EN
CALSCALE:GREGORIAN
METHOD:PUBLISH
X-WR-CALNAME:Mount Penn Preserve
X-ORIGINAL-URL:https://mtpennpreserve.org
X-WR-CALDESC:Events for Mount Penn Preserve
REFRESH-INTERVAL;VALUE=DURATION:PT1H
X-Robots-Tag:noindex
X-PUBLISHED-TTL:PT1H
BEGIN:VTIMEZONE
TZID:UTC
BEGIN:STANDARD
TZOFFSETFROM:+0000
TZOFFSETTO:+0000
TZNAME:UTC
DTSTART:20230101T000000
END:STANDARD
END:VTIMEZONE
BEGIN:VEVENT
DTSTART;TZID=UTC:20241228T100000
DTEND;TZID=UTC:20241228T100000
DTSTAMP:20260420T181406
CREATED:20241126T135401Z
LAST-MODIFIED:20241126T140120Z
UID:980-1735380000-1735380000@mtpennpreserve.org
SUMMARY:Christmas Leftovers Ride with BAMBA
DESCRIPTION:Bring your bike\, Christmas leftovers and Holiday cheer and join us for a ride on beautiful Mount Penn and/or Neversink (depending on trail conditions).\nRain date: December 29\, same time\nRide Host- Brad Bohr/John Pacharis\nPlease fill out our liability waiver before ride:https://forms.gle/TV6zgkoqSTsKBtVm7\nHelmets Required
URL:https://mtpennpreserve.org/event/christmas-leftovers-rid-with-bamba/
LOCATION:Egelman’s Park\, 2142 Hill Road\, Reading\, PA\, 19602\, United States
CATEGORIES:BAMBA
ATTACH;FMTTYPE=image/png:https://mtpennpreserve.org/wp-content/uploads/2024/11/Santa.png
END:VEVENT
END:VCALENDAR