BEGIN:VCALENDAR
VERSION:2.0
PRODID:-//Mount Penn Preserve - ECPv6.15.20//NONSGML v1.0//EN
CALSCALE:GREGORIAN
METHOD:PUBLISH
X-ORIGINAL-URL:https://mtpennpreserve.org
X-WR-CALDESC:Events for Mount Penn Preserve
REFRESH-INTERVAL;VALUE=DURATION:PT1H
X-Robots-Tag:noindex
X-PUBLISHED-TTL:PT1H
BEGIN:VTIMEZONE
TZID:UTC
BEGIN:STANDARD
TZOFFSETFROM:+0000
TZOFFSETTO:+0000
TZNAME:UTC
DTSTART:20240101T000000
END:STANDARD
END:VTIMEZONE
BEGIN:VEVENT
DTSTART;TZID=UTC:20250405T090000
DTEND;TZID=UTC:20250405T123000
DTSTAMP:20260420T113106
CREATED:20250404T161841Z
LAST-MODIFIED:20250404T161841Z
UID:1208-1743843600-1743856200@mtpennpreserve.org
SUMMARY:BAMBA Mountain Bike Skills Clinic- Level 3
DESCRIPTION:Level 3 is all-new for 2025! This clinic is designed to get your wheels off the ground and take your riding to new heights. It introduces you to the exhilarating world of jumps and drops\, offering step-by-step guidance on how to safely and confidently tackle these thrilling obstacles on your mountain bike. Get ready to elevate your skills and experience the rush of airborne action!\n\nGoal: Participants will feel capable of performing advanced mountain bike skills upon completion of clinic.\n\nRain date- April 6\n\nRegistration Link:  Click Here
URL:https://mtpennpreserve.org/event/bamba-mountain-bike-skills-clinic-level-3/
LOCATION:BAMBA Trailhead\, 2 List Road\, Reading\, PA\, 19606\, United States
CATEGORIES:BAMBA
ATTACH;FMTTYPE=image/jpeg:https://mtpennpreserve.org/wp-content/uploads/2025/04/BAMBA-Ride-Events.jpg
END:VEVENT
END:VCALENDAR