BEGIN:VCALENDAR
VERSION:2.0
PRODID:-//Mount Penn Preserve - ECPv6.15.20//NONSGML v1.0//EN
CALSCALE:GREGORIAN
METHOD:PUBLISH
X-WR-CALNAME:Mount Penn Preserve
X-ORIGINAL-URL:https://mtpennpreserve.org
X-WR-CALDESC:Events for Mount Penn Preserve
REFRESH-INTERVAL;VALUE=DURATION:PT1H
X-Robots-Tag:noindex
X-PUBLISHED-TTL:PT1H
BEGIN:VTIMEZONE
TZID:UTC
BEGIN:STANDARD
TZOFFSETFROM:+0000
TZOFFSETTO:+0000
TZNAME:UTC
DTSTART:20240101T000000
END:STANDARD
END:VTIMEZONE
BEGIN:VEVENT
DTSTART;TZID=UTC:20250809T090000
DTEND;TZID=UTC:20250809T120000
DTSTAMP:20260420T043102
CREATED:20250805T192154Z
LAST-MODIFIED:20250805T192736Z
UID:1309-1754730000-1754740800@mtpennpreserve.org
SUMMARY:BAMBA Trail Maintenance
DESCRIPTION:This session will start cutting back some of the overgrowth on Mt Penn trails.
URL:https://mtpennpreserve.org/event/bamba-trail-maintenance/
LOCATION:BAMBA Trailhead\, 2 List Road\, Reading\, PA\, 19606\, United States
CATEGORIES:BAMBA
ATTACH;FMTTYPE=image/jpeg:https://mtpennpreserve.org/wp-content/uploads/2025/04/BAMBA-Trail-Maintenance.jpg
END:VEVENT
END:VCALENDAR