BEGIN:VCALENDAR
VERSION:2.0
PRODID:-//Mount Penn Preserve - ECPv6.15.20//NONSGML v1.0//EN
CALSCALE:GREGORIAN
METHOD:PUBLISH
X-ORIGINAL-URL:https://mtpennpreserve.org
X-WR-CALDESC:Events for Mount Penn Preserve
REFRESH-INTERVAL;VALUE=DURATION:PT1H
X-Robots-Tag:noindex
X-PUBLISHED-TTL:PT1H
BEGIN:VTIMEZONE
TZID:UTC
BEGIN:STANDARD
TZOFFSETFROM:+0000
TZOFFSETTO:+0000
TZNAME:UTC
DTSTART:20240101T000000
END:STANDARD
END:VTIMEZONE
BEGIN:VEVENT
DTSTART;TZID=UTC:20251227T100000
DTEND;TZID=UTC:20251227T120000
DTSTAMP:20260419T221043
CREATED:20251216T185251Z
LAST-MODIFIED:20251216T185251Z
UID:1375-1766829600-1766836800@mtpennpreserve.org
SUMMARY:Xmas Leftovers Ride
DESCRIPTION:Bring your bike\, Christmas leftovers and Holiday cheer and join us for a ride on beautiful Mount Penn and/or Neversink (depending on trail conditions).Ride Host- Brad Bohr/John PacharisRain date: December 28th\, same time\nPlease fill out our liability waiver before ride:https://forms.gle/TV6zgkoqSTsKBtVm7Helmets Required
URL:https://mtpennpreserve.org/event/xmas-leftovers-ride/
LOCATION:BAMBA Hill Road\, 2142 Hill Road\, Reading\, PA\, 19606
CATEGORIES:BAMBA
ATTACH;FMTTYPE=image/png:https://mtpennpreserve.org/wp-content/uploads/2024/11/Santa.png
END:VEVENT
END:VCALENDAR