BEGIN:VCALENDAR
VERSION:2.0
PRODID:-//Mount Penn Preserve - ECPv6.15.20//NONSGML v1.0//EN
CALSCALE:GREGORIAN
METHOD:PUBLISH
X-WR-CALNAME:Mount Penn Preserve
X-ORIGINAL-URL:https://mtpennpreserve.org
X-WR-CALDESC:Events for Mount Penn Preserve
REFRESH-INTERVAL;VALUE=DURATION:PT1H
X-Robots-Tag:noindex
X-PUBLISHED-TTL:PT1H
BEGIN:VTIMEZONE
TZID:UTC
BEGIN:STANDARD
TZOFFSETFROM:+0000
TZOFFSETTO:+0000
TZNAME:UTC
DTSTART:20230101T000000
END:STANDARD
END:VTIMEZONE
BEGIN:VEVENT
DTSTART;TZID=UTC:20240922T110000
DTEND;TZID=UTC:20240922T210000
DTSTAMP:20260422T221528
CREATED:20240719T163351Z
LAST-MODIFIED:20240719T164134Z
UID:610-1727002800-1727038800@mtpennpreserve.org
SUMMARY:Berks County Rock & Roll Hall of Fame Induction and Concert
DESCRIPTION:This is a fundraiser for three local non-profit community organizations; The Berks County Rock & Roll Hall of Fame\, The Mount Penn Preserve Partnership & The Reading Liederkranz. \nAll performing band members donate their time and talent and the event is one of the region’s highlight musical happenings of the year. \nThe event is presented by the Berks County Rock & Roll Hall of Fame\, the Mount Penn Preserve Partnership\, Reading Musical Foundation\, and Dave Kline Productions. \n  \nEVENT DETAILS \nDate:  Sunday\, September 22\, 2024\nTime: 11am-9pm\nDoors:  10am\nVenue:  Reading Liederkranz\nAll-Day Admission:  $25\, under 18yrs old\, FREE.\nPurchase Tickets:  https://bit.ly/BCRRHOF2024Tix\nParking:  FREE on site. Rain or shine\, event is outdoors with cover.\nFood and Beverages:  Available for purchase. \nSCHEDULE \n11am to Noon – Dragontooth. Great music from the 60s on\, this band will get you up and dancing. \n \n12:30 to 1:30pm – Daze of My Youth. Specializing in performing tribute music from the iconic rock band Led Zeppelin\, this band will get you going with a whole lotta love as you and they rock down memory lane. \n \n2 to 3pm – Josh. Hits\, grooves and dance music from the 60s\, 70s are this band’s calling card. \n \n3:30 to 4:30pm – Sanction. Metal and shredding jolt you to your feet when this band takes to the stage. \n \n5 to 6pm – John King Band. Smooth and refined\, able to make rears leave seats from the very first notes of their set\, get ready yo! Here come the most beloved dance hits ever. \n \n6:10 to 6:20 – Induction Awards Ceremony \n \nEd Aungst \nJay Denunzio \nThomas Dietrich \nPeter Errich \nReggie Brown \nWayne Fisher \nMike Garner \nWayne Gratz \nCharles Himmelberger \nPaul Himmelberger – posthumous \nJohn Jarmoski \nAlan Long \nSean McCullough \nJoey McEvoy \nRonald Miller \nPete Patestas \nMike Richards \nRick Sky (Spittler) \nLarry Wagner \nHonorary Mention \nAaron Celsus \nChris Cook \nJason Corby \nBill DeLong \nSteve Eckert \nJon Fuller \nColleen Gilpin \nBeth Hoffert \nKyle Kantner \nMike Koharcheck \nIan Lillis \nJohn Mattis \nMike Mercado \nMike Richards \nRich Roth \nJohn Scherrer \nLeo Sobelewski \nRob Turner \nWarren Zukina \nBands to be Inducted 2024 \nFatal Aggression \nFlame \nJosh \nMauraders \n6:30 to 7:30 – Flamin’ Dick & The Hot Rods. Power dance hits from the 50s & 60s make this band the region’s preeminent musical time machine. \n \n8 to 9pm – Busker Incognito & The SHOW. Blues\, Boogie\, Rock-a-Billy\, Diddley & rock-based originals are this band’s forte. Get your mojo working on the dance floor!
URL:https://mtpennpreserve.org/event/berks-county-rock-roll-hall-of-fame-induction-and-concert/
LOCATION:Reading Liederkranz\, 143 Spook Lane\, Reading\, PA\, 19606\, United States
CATEGORIES:Concert
ATTACH;FMTTYPE=image/jpeg:https://mtpennpreserve.org/wp-content/uploads/2024/07/BCRRHOF-Facebook-Event-Banner.jpg
END:VEVENT
END:VCALENDAR