BEGIN:VCALENDAR
VERSION:2.0
PRODID:-//Mount Penn Preserve - ECPv6.15.20//NONSGML v1.0//EN
CALSCALE:GREGORIAN
METHOD:PUBLISH
X-ORIGINAL-URL:https://mtpennpreserve.org
X-WR-CALDESC:Events for Mount Penn Preserve
REFRESH-INTERVAL;VALUE=DURATION:PT1H
X-Robots-Tag:noindex
X-PUBLISHED-TTL:PT1H
BEGIN:VTIMEZONE
TZID:UTC
BEGIN:STANDARD
TZOFFSETFROM:+0000
TZOFFSETTO:+0000
TZNAME:UTC
DTSTART:20230101T000000
END:STANDARD
END:VTIMEZONE
BEGIN:VEVENT
DTSTART;TZID=UTC:20240727T180000
DTEND;TZID=UTC:20240727T180000
DTSTAMP:20260420T195543
CREATED:20240719T171706Z
LAST-MODIFIED:20240719T172945Z
UID:631-1722103200-1722103200@mtpennpreserve.org
SUMMARY:Family Fishing Day
DESCRIPTION:Join Parks Staff and Rangers as we enjoy an evening of fishing fun! Learn how to tie fishing knots\, try your hand at casting\, and hear some fish tales! No experience or tackle necessary- no fishing license required. All rods\, bait\, and tackle will be provided.\nFREE | Registration REQUIRED\n\n\nEvent Details Link:  Click Here to Register and for More Info
URL:https://mtpennpreserve.org/event/family-fishing-day/
LOCATION:Antietam Lake\, 230 Angora Road\, Reading\, PA\, 19606\, United States
CATEGORIES:Event
ATTACH;FMTTYPE=image/jpeg:https://mtpennpreserve.org/wp-content/uploads/2024/07/FamilyFishingDay.jpg
END:VEVENT
END:VCALENDAR