BEGIN:VCALENDAR
VERSION:2.0
PRODID:-//Mount Penn Preserve - ECPv6.15.20//NONSGML v1.0//EN
CALSCALE:GREGORIAN
METHOD:PUBLISH
X-ORIGINAL-URL:https://mtpennpreserve.org
X-WR-CALDESC:Events for Mount Penn Preserve
REFRESH-INTERVAL;VALUE=DURATION:PT1H
X-Robots-Tag:noindex
X-PUBLISHED-TTL:PT1H
BEGIN:VTIMEZONE
TZID:UTC
BEGIN:STANDARD
TZOFFSETFROM:+0000
TZOFFSETTO:+0000
TZNAME:UTC
DTSTART:20230101T000000
END:STANDARD
END:VTIMEZONE
BEGIN:VEVENT
DTSTART;TZID=UTC:20240923T170000
DTEND;TZID=UTC:20240923T190000
DTSTAMP:20260422T120725
CREATED:20240923T131251Z
LAST-MODIFIED:20240923T131742Z
UID:895-1727110800-1727118000@mtpennpreserve.org
SUMMARY:Summer Monday Night Market Mingle
DESCRIPTION:Welcome to our Summer Monday Night Market Mingles! Stop by to shop our wide variety of vendors\, enjoy some delicious dinner and dessert\, listen to music\, and mingle with other community members!\nFollow our page for updates on the full vendors list for each market\, and sign up for our email newsletter. See you soon!\nhttps://farmersmarket.antietamvalley.org/contact/
URL:https://mtpennpreserve.org/event/summer-monday-night-market-mingle/
LOCATION:Carsonia Park\, 905 Byram Street\, Reading\, 19606\, United States
CATEGORIES:Farmer and Artist Market
ATTACH;FMTTYPE=image/jpeg:https://mtpennpreserve.org/wp-content/uploads/2024/09/Antietam-Valley-Farmers-and-Artists-Market.jpg
END:VEVENT
END:VCALENDAR