BEGIN:VCALENDAR
VERSION:2.0
PRODID:-//Mount Penn Preserve - ECPv6.15.20//NONSGML v1.0//EN
CALSCALE:GREGORIAN
METHOD:PUBLISH
X-ORIGINAL-URL:https://mtpennpreserve.org
X-WR-CALDESC:Events for Mount Penn Preserve
REFRESH-INTERVAL;VALUE=DURATION:PT1H
X-Robots-Tag:noindex
X-PUBLISHED-TTL:PT1H
BEGIN:VTIMEZONE
TZID:UTC
BEGIN:STANDARD
TZOFFSETFROM:+0000
TZOFFSETTO:+0000
TZNAME:UTC
DTSTART:20240101T000000
END:STANDARD
END:VTIMEZONE
BEGIN:VEVENT
DTSTART;TZID=UTC:20251222T170000
DTEND;TZID=UTC:20251222T190000
DTSTAMP:20260421T133439
CREATED:20251216T184604Z
LAST-MODIFIED:20251216T184604Z
UID:1366-1766422800-1766430000@mtpennpreserve.org
SUMMARY:Indoor Holiday Market Mingle
DESCRIPTION:Hosted by the Antietam Valley Farmers’ and Artists Market. \n  \nJoin us for our Christmas week Market.
URL:https://mtpennpreserve.org/event/indoor-holiday-market-mingle/
LOCATION:Antietam Recreation Center\, Byram Street\, Reading\, PA\, 19606
CATEGORIES:Farmer and Artist Market
ATTACH;FMTTYPE=image/jpeg:https://mtpennpreserve.org/wp-content/uploads/2025/12/Antietam-Indoor-Holiday-Market.jpg
END:VEVENT
END:VCALENDAR