BEGIN:VCALENDAR
VERSION:2.0
PRODID:-//Mount Penn Preserve - ECPv6.15.20//NONSGML v1.0//EN
CALSCALE:GREGORIAN
METHOD:PUBLISH
X-ORIGINAL-URL:https://mtpennpreserve.org
X-WR-CALDESC:Events for Mount Penn Preserve
REFRESH-INTERVAL;VALUE=DURATION:PT1H
X-Robots-Tag:noindex
X-PUBLISHED-TTL:PT1H
BEGIN:VTIMEZONE
TZID:UTC
BEGIN:STANDARD
TZOFFSETFROM:+0000
TZOFFSETTO:+0000
TZNAME:UTC
DTSTART:20230101T000000
END:STANDARD
END:VTIMEZONE
BEGIN:VEVENT
DTSTART;TZID=UTC:20240925T180000
DTEND;TZID=UTC:20240925T190000
DTSTAMP:20260420T164724
CREATED:20240923T132905Z
LAST-MODIFIED:20240923T132937Z
UID:906-1727287200-1727290800@mtpennpreserve.org
SUMMARY:MP3 COG Board Meeting
DESCRIPTION:Board meeting of the Mount Penn Preserve Partnership Council of Governments (MP3 COG). Open to the public. Learn more about the Mount Penn Preserve initiatives and hear reports from each of the committees. \nLink for Meeting Agenda and Virtual Participation:  Available the week of meeting on the main page of www.mtpennpreserve.org.
URL:https://mtpennpreserve.org/event/mp3-cog-board-meeting-2/
LOCATION:Alsace Township Building\, 65 Woodside Avenue\, Temple\, PA\, 19560\, United States
CATEGORIES:MP3 Meeting
ATTACH;FMTTYPE=image/jpeg:https://mtpennpreserve.org/wp-content/uploads/2024/07/MP3-COG-Meeting-Event-Banner.jpg
END:VEVENT
END:VCALENDAR