BEGIN:VCALENDAR
VERSION:2.0
PRODID:-//Mount Penn Preserve - ECPv6.15.20//NONSGML v1.0//EN
CALSCALE:GREGORIAN
METHOD:PUBLISH
X-WR-CALNAME:Mount Penn Preserve
X-ORIGINAL-URL:https://mtpennpreserve.org
X-WR-CALDESC:Events for Mount Penn Preserve
REFRESH-INTERVAL;VALUE=DURATION:PT1H
X-Robots-Tag:noindex
X-PUBLISHED-TTL:PT1H
BEGIN:VTIMEZONE
TZID:UTC
BEGIN:STANDARD
TZOFFSETFROM:+0000
TZOFFSETTO:+0000
TZNAME:UTC
DTSTART:20240101T000000
END:STANDARD
END:VTIMEZONE
BEGIN:VEVENT
DTSTART;TZID=UTC:20250924T180000
DTEND;TZID=UTC:20250924T190000
DTSTAMP:20260419T204056
CREATED:20250404T142211Z
LAST-MODIFIED:20250805T191812Z
UID:1199-1758736800-1758740400@mtpennpreserve.org
SUMMARY:MP3 Board Meeting
DESCRIPTION:Board meeting of the Mount Penn Preserve Partnership Council of Governments (MP3 COG). Open to the public. Learn more about the Mount Penn Preserve initiatives and hear reports from each of the committees.\n\nLink for Meeting Agenda and Zoom access is available the week of the meeting at the following link: www.mtpennpreserve.org
URL:https://mtpennpreserve.org/event/mp3-cog-board-meeting-7/
LOCATION:Lower Alsace Township Building\, 1200 Carsonia Avenue\, Reading\, PA\, 19606\, United States
CATEGORIES:MP3 Meeting
ATTACH;FMTTYPE=image/jpeg:https://mtpennpreserve.org/wp-content/uploads/2024/07/MP3-COG-Meeting-Event-Banner.jpg
END:VEVENT
END:VCALENDAR