BEGIN:VCALENDAR
VERSION:2.0
PRODID:-//Mount Penn Preserve - ECPv6.15.20//NONSGML v1.0//EN
CALSCALE:GREGORIAN
METHOD:PUBLISH
X-WR-CALNAME:Mount Penn Preserve
X-ORIGINAL-URL:https://mtpennpreserve.org
X-WR-CALDESC:Events for Mount Penn Preserve
REFRESH-INTERVAL;VALUE=DURATION:PT1H
X-Robots-Tag:noindex
X-PUBLISHED-TTL:PT1H
BEGIN:VTIMEZONE
TZID:UTC
BEGIN:STANDARD
TZOFFSETFROM:+0000
TZOFFSETTO:+0000
TZNAME:UTC
DTSTART:20240101T000000
END:STANDARD
END:VTIMEZONE
BEGIN:VEVENT
DTSTART;TZID=UTC:20250129T180000
DTEND;TZID=UTC:20250129T180000
DTSTAMP:20260419T154550
CREATED:20250121T144940Z
LAST-MODIFIED:20250121T152209Z
UID:1067-1738173600-1738173600@mtpennpreserve.org
SUMMARY:Wednesday Night Run
DESCRIPTION:Antietam Pool905 Byram St\, Reading\, PA 19606https://maps.app.goo.gl/4ZQyteUyDZCKvGz2A\nLong route is 6.2 miles:https://www.alltrails.com/…/map/antietampool-10k-082a8bbShort route is 3.3 miles:https://www.alltrails.com/exp…/map/antietampool-5k-d384dec\nPost-run refueling at:Liberty Tap Room237 N Prospect St\, Reading\, PA 19606https://maps.app.goo.gl/z683PqVySVj4giFG9
URL:https://mtpennpreserve.org/event/wednesday-night-run/
LOCATION:Antietam Swimming Pool\, 905 Byram Street\, Reading\, PA\, 19606\, United States
CATEGORIES:Pagoda Pacers Athletic Club
ATTACH;FMTTYPE=image/jpeg:https://mtpennpreserve.org/wp-content/uploads/2025/01/Pagoda-Pacers.jpg
END:VEVENT
END:VCALENDAR