BEGIN:VCALENDAR
VERSION:2.0
PRODID:-//Mount Penn Preserve - ECPv6.15.20//NONSGML v1.0//EN
CALSCALE:GREGORIAN
METHOD:PUBLISH
X-ORIGINAL-URL:https://mtpennpreserve.org
X-WR-CALDESC:Events for Mount Penn Preserve
REFRESH-INTERVAL;VALUE=DURATION:PT1H
X-Robots-Tag:noindex
X-PUBLISHED-TTL:PT1H
BEGIN:VTIMEZONE
TZID:UTC
BEGIN:STANDARD
TZOFFSETFROM:+0000
TZOFFSETTO:+0000
TZNAME:UTC
DTSTART:20230101T000000
END:STANDARD
END:VTIMEZONE
BEGIN:VEVENT
DTSTART;TZID=UTC:20250816T090000
DTEND;TZID=UTC:20250817T160000
DTSTAMP:20260421T133635
CREATED:20250805T194659Z
LAST-MODIFIED:20250805T194659Z
UID:1322-1755334800-1755446400@mtpennpreserve.org
SUMMARY:Duryea Hillclimb
DESCRIPTION:Go to bmr-scca.org/spectate for further details on watching.– Competition is from approximately 9am-4pm both days.– Entry is by donation on site.- Donations go to Pagoda-Skyline\, Inc. which is a non-profit\, citizen volunteer organization dedicated to the restoration and preservation of the Pagoda\, the Fire Tower and the Skyline Drive area.\n– – There is no dedicated parking. You can park anywhere in the area of Walnut St. and 13th St./Clymer St. or down in city park to access the lower portion of the course and the pits. \nLocation:  Intersection of Duryea Drive and Clymer Streets\, Reading PA 19602
URL:https://mtpennpreserve.org/event/duryea-hillclimb/
CATEGORIES:Reading Hillclimbs
ATTACH;FMTTYPE=image/jpeg:https://mtpennpreserve.org/wp-content/uploads/2025/08/Reading-Hillclimbs.jpg
END:VEVENT
BEGIN:VEVENT
DTSTART;TZID=UTC:20240818T090000
DTEND;TZID=UTC:20240818T160000
DTSTAMP:20260421T133635
CREATED:20240719T172534Z
LAST-MODIFIED:20240719T172842Z
UID:642-1723971600-1723996800@mtpennpreserve.org
SUMMARY:Duryea Hillclimbs
DESCRIPTION:More Info TBA
URL:https://mtpennpreserve.org/event/duryea-hillclimbs-2/
CATEGORIES:Reading Hillclimbs
ATTACH;FMTTYPE=image/jpeg:https://mtpennpreserve.org/wp-content/uploads/2024/07/DuryeaHillclimbs.jpg
END:VEVENT
BEGIN:VEVENT
DTSTART;TZID=UTC:20240817T093000
DTEND;TZID=UTC:20240817T160000
DTSTAMP:20260421T133635
CREATED:20240719T172405Z
LAST-MODIFIED:20240719T172857Z
UID:639-1723887000-1723910400@mtpennpreserve.org
SUMMARY:Duryea Hillclimbs
DESCRIPTION:More Info TBA
URL:https://mtpennpreserve.org/event/duryea-hillclimbs/
CATEGORIES:Reading Hillclimbs
ATTACH;FMTTYPE=image/jpeg:https://mtpennpreserve.org/wp-content/uploads/2024/07/DuryeaHillclimbs.jpg
END:VEVENT
END:VCALENDAR