BEGIN:VCALENDAR
VERSION:2.0
PRODID:-//Mount Penn Preserve - ECPv6.15.20//NONSGML v1.0//EN
CALSCALE:GREGORIAN
METHOD:PUBLISH
X-ORIGINAL-URL:https://mtpennpreserve.org
X-WR-CALDESC:Events for Mount Penn Preserve
REFRESH-INTERVAL;VALUE=DURATION:PT1H
X-Robots-Tag:noindex
X-PUBLISHED-TTL:PT1H
BEGIN:VTIMEZONE
TZID:UTC
BEGIN:STANDARD
TZOFFSETFROM:+0000
TZOFFSETTO:+0000
TZNAME:UTC
DTSTART:20240101T000000
END:STANDARD
END:VTIMEZONE
BEGIN:VEVENT
DTSTART;TZID=UTC:20250615T120000
DTEND;TZID=UTC:20250615T140000
DTSTAMP:20260420T023732
CREATED:20250404T175735Z
LAST-MODIFIED:20250404T175735Z
UID:1255-1749988800-1749996000@mtpennpreserve.org
SUMMARY:Father's Day BBQ
DESCRIPTION:Celebrate Dad with a BBQ Buffet\, Stokesay Style! \nTreat the dads in your life to a mouthwatering BBQ Buffet at Stokesay Castle! \nJoin us for a feast fit for a king\, featuring all the smoky\, savory flavors Dad loves! Make this Father’s Day one to remember with delicious food\, great company\, and a touch of Stokesay charm. \nCall 610.375.6100 to make your reservations today!
URL:https://mtpennpreserve.org/event/fathers-day-bbq/
LOCATION:Stokesay Castle and The Knight’s Pub\, 141 Stokesay Castle Lane\, Reading\, PA\, 19606\, United States
CATEGORIES:Stokesay Castle and Knights Pub
ATTACH;FMTTYPE=image/jpeg:https://mtpennpreserve.org/wp-content/uploads/2025/04/Father.jpg
END:VEVENT
END:VCALENDAR