BEGIN:VCALENDAR
VERSION:2.0
PRODID:-//Mount Penn Preserve - ECPv6.15.20//NONSGML v1.0//EN
CALSCALE:GREGORIAN
METHOD:PUBLISH
X-WR-CALNAME:Mount Penn Preserve
X-ORIGINAL-URL:https://mtpennpreserve.org
X-WR-CALDESC:Events for Mount Penn Preserve
REFRESH-INTERVAL;VALUE=DURATION:PT1H
X-Robots-Tag:noindex
X-PUBLISHED-TTL:PT1H
BEGIN:VTIMEZONE
TZID:UTC
BEGIN:STANDARD
TZOFFSETFROM:+0000
TZOFFSETTO:+0000
TZNAME:UTC
DTSTART:20230101T000000
END:STANDARD
END:VTIMEZONE
BEGIN:VEVENT
DTSTART;TZID=UTC:20241128T110000
DTEND;TZID=UTC:20241128T110000
DTSTAMP:20260420T142222
CREATED:20240923T140309Z
LAST-MODIFIED:20240923T140707Z
UID:931-1732791600-1732791600@mtpennpreserve.org
SUMMARY:Thanksgiving Dinner
DESCRIPTION:Celebrate Thanksgiving with your friends & family with a buffet at Stokesay Castle.\nEnjoy traditional dishes and excellent service in an unmatched atmosphere!\nCall 610.375.6100 to make your reservation today!
URL:https://mtpennpreserve.org/event/thanksgiving-dinner/
LOCATION:Stokesay Castle and The Knight’s Pub\, 141 Stokesay Castle Lane\, Reading\, PA\, 19606\, United States
CATEGORIES:Stokesay Castle and Knights Pub
ATTACH;FMTTYPE=image/jpeg:https://mtpennpreserve.org/wp-content/uploads/2024/09/Thanksgiving-Dinner.jpg
END:VEVENT
END:VCALENDAR