BEGIN:VCALENDAR
VERSION:2.0
PRODID:-//Mount Penn Preserve - ECPv6.15.20//NONSGML v1.0//EN
CALSCALE:GREGORIAN
METHOD:PUBLISH
X-ORIGINAL-URL:https://mtpennpreserve.org
X-WR-CALDESC:Events for Mount Penn Preserve
REFRESH-INTERVAL;VALUE=DURATION:PT1H
X-Robots-Tag:noindex
X-PUBLISHED-TTL:PT1H
BEGIN:VTIMEZONE
TZID:UTC
BEGIN:STANDARD
TZOFFSETFROM:+0000
TZOFFSETTO:+0000
TZNAME:UTC
DTSTART:20230101T000000
END:STANDARD
END:VTIMEZONE
BEGIN:VEVENT
DTSTART;TZID=UTC:20241231T170000
DTEND;TZID=UTC:20241231T170000
DTSTAMP:20260420T130442
CREATED:20241126T135803Z
LAST-MODIFIED:20241126T140031Z
UID:985-1735664400-1735664400@mtpennpreserve.org
SUMMARY:New Year's Eve Dinner
DESCRIPTION:Celebrate New Year’s Eve with an elegant dinner buffet at Stokesay Castle. Savor delicious dishes and enjoy exceptional service in our beautifully renovated ballroom. Set the stage for a perfect start to 2025!\nCall 610.375.6100 to make your reservation today!
URL:https://mtpennpreserve.org/event/new-years-eve-dinner/
LOCATION:Stokesay Castle and The Knight’s Pub\, 141 Stokesay Castle Lane\, Reading\, PA\, 19606\, United States
CATEGORIES:Stokesay Castle and Knights Pub
ATTACH;FMTTYPE=image/png:https://mtpennpreserve.org/wp-content/uploads/2024/11/Ballroom.png
END:VEVENT
BEGIN:VEVENT
DTSTART;TZID=UTC:20241231T203000
DTEND;TZID=UTC:20250101T003000
DTSTAMP:20260420T130442
CREATED:20241126T140514Z
LAST-MODIFIED:20241126T140514Z
UID:988-1735677000-1735691400@mtpennpreserve.org
SUMMARY:New Year's Eve Part at The Pub
DESCRIPTION:Kicking off 2025 with A Party At The Pub is the ULTIMATE way to celebrate the New Year! Dance to Go HAM as they keep the energy through the night. With drinks flowing from the open bar\, and tasty bites keeping the party fueled…You are sure to have an unforgettable “Knight” as you ring in the New Year!\n*$10 OFF each ticket when purchased in November*
URL:https://mtpennpreserve.org/event/new-years-eve-part-at-the-pub/
LOCATION:Stokesay Castle and The Knight’s Pub\, 141 Stokesay Castle Lane\, Reading\, PA\, 19606\, United States
CATEGORIES:Stokesay Castle and Knights Pub
ATTACH;FMTTYPE=image/png:https://mtpennpreserve.org/wp-content/uploads/2024/11/Knight.png
END:VEVENT
END:VCALENDAR