BEGIN:VCALENDAR
VERSION:2.0
PRODID:-//Mount Penn Preserve - ECPv6.15.20//NONSGML v1.0//EN
CALSCALE:GREGORIAN
METHOD:PUBLISH
X-ORIGINAL-URL:https://mtpennpreserve.org
X-WR-CALDESC:Events for Mount Penn Preserve
REFRESH-INTERVAL;VALUE=DURATION:PT1H
X-Robots-Tag:noindex
X-PUBLISHED-TTL:PT1H
BEGIN:VTIMEZONE
TZID:UTC
BEGIN:STANDARD
TZOFFSETFROM:+0000
TZOFFSETTO:+0000
TZNAME:UTC
DTSTART:20240101T000000
END:STANDARD
END:VTIMEZONE
BEGIN:VEVENT
DTSTART;TZID=UTC:20250214T170000
DTEND;TZID=UTC:20250214T170000
DTSTAMP:20260420T110853
CREATED:20250121T145622Z
LAST-MODIFIED:20250121T152545Z
UID:1078-1739552400-1739552400@mtpennpreserve.org
SUMMARY:Valentine's Dinner
DESCRIPTION:Experience romance like never before at Stokesay Castle\, during Valentine’s Weekend!\n\nTreat your special someone to an enchanting evening filled with love\, elegance\, and unforgettable dishes.\n\nEnjoy a meticulously crafted four-course pre-fixe dinner in The Lord’s Dining Room\, where exquisite flavors and an intimate atmosphere set the stage for a perfect celebration.\n\nMake this Valentine’s Day magical—Reserve your table today and let the romance unfold!Reservations:  610.375.6100\n\nClick Here to Visit Website
URL:https://mtpennpreserve.org/event/valentines-dinner/
LOCATION:Stokesay Castle and The Knight’s Pub\, 141 Stokesay Castle Lane\, Reading\, PA\, 19606\, United States
CATEGORIES:Stokesay Castle and Knights Pub
ATTACH;FMTTYPE=image/jpeg:https://mtpennpreserve.org/wp-content/uploads/2025/01/Valentines-Dinner.jpg
END:VEVENT
END:VCALENDAR