BEGIN:VCALENDAR
VERSION:2.0
PRODID:-//Mount Penn Preserve - ECPv6.15.20//NONSGML v1.0//EN
CALSCALE:GREGORIAN
METHOD:PUBLISH
X-WR-CALNAME:Mount Penn Preserve
X-ORIGINAL-URL:https://mtpennpreserve.org
X-WR-CALDESC:Events for Mount Penn Preserve
REFRESH-INTERVAL;VALUE=DURATION:PT1H
X-Robots-Tag:noindex
X-PUBLISHED-TTL:PT1H
BEGIN:VTIMEZONE
TZID:UTC
BEGIN:STANDARD
TZOFFSETFROM:+0000
TZOFFSETTO:+0000
TZNAME:UTC
DTSTART:20240101T000000
END:STANDARD
END:VTIMEZONE
BEGIN:VEVENT
DTSTART;TZID=UTC:20250420T110000
DTEND;TZID=UTC:20250420T160000
DTSTAMP:20260420T073927
CREATED:20250404T162505Z
LAST-MODIFIED:20250404T162505Z
UID:1217-1745146800-1745164800@mtpennpreserve.org
SUMMARY:Easter Brunch at Stokesay Castle
DESCRIPTION:Sunday\, April 20Seatings 11am thru 4pm\n\nCelebrate Easter at Stokesay Castle!\n\nGather your loved ones for a memorable holiday filled with tradition\, warmth\, and indulgence. Enjoy exquisite dishes\, impeccable service\, and the enchanting charm of our historic setting. Let us make this Easter a celebration to remember!\nReservations Are Required. Please Call 610.375.6100.A credit card will be required to secure your reservation.\nWe look forward to celebrating with you!
URL:https://mtpennpreserve.org/event/easter-brunch-at-stokesay-castle/
LOCATION:Stokesay Castle and The Knight’s Pub\, 141 Stokesay Castle Lane\, Reading\, PA\, 19606\, United States
CATEGORIES:Stokesay Castle and Knights Pub
ATTACH;FMTTYPE=image/jpeg:https://mtpennpreserve.org/wp-content/uploads/2025/04/Easter-Brunch.jpg
END:VEVENT
END:VCALENDAR