BEGIN:VCALENDAR
VERSION:2.0
PRODID:-//Mount Penn Preserve - ECPv6.15.20//NONSGML v1.0//EN
CALSCALE:GREGORIAN
METHOD:PUBLISH
X-ORIGINAL-URL:https://mtpennpreserve.org
X-WR-CALDESC:Events for Mount Penn Preserve
REFRESH-INTERVAL;VALUE=DURATION:PT1H
X-Robots-Tag:noindex
X-PUBLISHED-TTL:PT1H
BEGIN:VTIMEZONE
TZID:UTC
BEGIN:STANDARD
TZOFFSETFROM:+0000
TZOFFSETTO:+0000
TZNAME:UTC
DTSTART:20240101T000000
END:STANDARD
END:VTIMEZONE
BEGIN:VEVENT
DTSTART;TZID=UTC:20250511T110000
DTEND;TZID=UTC:20250511T160000
DTSTAMP:20260420T055516
CREATED:20250404T163526Z
LAST-MODIFIED:20250404T163552Z
UID:1235-1746961200-1746979200@mtpennpreserve.org
SUMMARY:Mother's Day Brunch
DESCRIPTION:Spoil the moms in your life with a magical Mother’s Day Brunch at Stokesay Castle! \nIndulge in a lavish buffet filled with traditional favorites\, and enjoy the warm\, elegant ambiance of our historic castle. \nWith exceptional service and an atmosphere like no other\, this is the perfect way to show Mom just how much she means to you. \nCall 610.375.6100 and make your reservations today!
URL:https://mtpennpreserve.org/event/mothers-day-brunch/
LOCATION:Stokesay Castle and The Knight’s Pub\, 141 Stokesay Castle Lane\, Reading\, PA\, 19606\, United States
CATEGORIES:Stokesay Castle and Knights Pub
ATTACH;FMTTYPE=image/jpeg:https://mtpennpreserve.org/wp-content/uploads/2025/04/Mother-Day.jpg
END:VEVENT
END:VCALENDAR