BEGIN:VCALENDAR
VERSION:2.0
PRODID:-//Mount Penn Preserve - ECPv6.15.20//NONSGML v1.0//EN
CALSCALE:GREGORIAN
METHOD:PUBLISH
X-WR-CALNAME:Mount Penn Preserve
X-ORIGINAL-URL:https://mtpennpreserve.org
X-WR-CALDESC:Events for Mount Penn Preserve
REFRESH-INTERVAL;VALUE=DURATION:PT1H
X-Robots-Tag:noindex
X-PUBLISHED-TTL:PT1H
BEGIN:VTIMEZONE
TZID:UTC
BEGIN:STANDARD
TZOFFSETFROM:+0000
TZOFFSETTO:+0000
TZNAME:UTC
DTSTART:20240101T000000
END:STANDARD
END:VTIMEZONE
BEGIN:VEVENT
DTSTART;TZID=UTC:20251224T160000
DTEND;TZID=UTC:20251224T180000
DTSTAMP:20260419T180120
CREATED:20251216T184754Z
LAST-MODIFIED:20251216T184754Z
UID:1370-1766592000-1766599200@mtpennpreserve.org
SUMMARY:Christmas Eve Dinner at Stokesay- SOLD OUT
DESCRIPTION:Celebrate the magic of the season with a festive Christmas Eve Buffet in the enchanting setting of Stokesay Castle.Enjoy an abundant spread of holiday favorites\, chef-crafted specialties\, and decadent desserts. Gather your loved ones for an unforgettable evening of warmth\, flavor\, and holiday cheer.We are SOLD OUT!
URL:https://mtpennpreserve.org/event/christmas-eve-dinner-at-stokesay-sold-out/
LOCATION:Stokesay Castle and The Knight’s Pub\, 141 Stokesay Castle Lane\, Reading\, PA\, 19606\, United States
CATEGORIES:Stokesay Castle and Knights Pub
ATTACH;FMTTYPE=image/jpeg:https://mtpennpreserve.org/wp-content/uploads/2024/09/Christmas-Eve-Dinner-Stokesay.jpg
END:VEVENT
END:VCALENDAR