BEGIN:VCALENDAR
VERSION:2.0
PRODID:-//Mount Penn Preserve - ECPv6.15.20//NONSGML v1.0//EN
CALSCALE:GREGORIAN
METHOD:PUBLISH
X-WR-CALNAME:Mount Penn Preserve
X-ORIGINAL-URL:https://mtpennpreserve.org
X-WR-CALDESC:Events for Mount Penn Preserve
REFRESH-INTERVAL;VALUE=DURATION:PT1H
X-Robots-Tag:noindex
X-PUBLISHED-TTL:PT1H
BEGIN:VTIMEZONE
TZID:UTC
BEGIN:STANDARD
TZOFFSETFROM:+0000
TZOFFSETTO:+0000
TZNAME:UTC
DTSTART:20240101T000000
END:STANDARD
END:VTIMEZONE
BEGIN:VEVENT
DTSTART;TZID=UTC:20251231T170000
DTEND;TZID=UTC:20251231T190000
DTSTAMP:20260419T155722
CREATED:20251216T185523Z
LAST-MODIFIED:20251216T185540Z
UID:1378-1767200400-1767207600@mtpennpreserve.org
SUMMARY:New Year's Eve Dinner Buffet
DESCRIPTION:Savor the final evening of the year with a special New Year’s Eve Dinner Buffet at Stokesay Castle.\nIndulge in an array of exquisite dishes\, decadent desserts\, and festive flavors\, all set within the castle’s elegant\, celebratory atmosphere.\nGather with friends and family to toast to new beginnings in grand style.
URL:https://mtpennpreserve.org/event/new-years-eve-dinner-buffet/
LOCATION:Stokesay Castle and The Knight’s Pub\, 141 Stokesay Castle Lane\, Reading\, PA\, 19606\, United States
CATEGORIES:Stokesay Castle and Knights Pub
ATTACH;FMTTYPE=image/png:https://mtpennpreserve.org/wp-content/uploads/2024/11/Ballroom.png
END:VEVENT
END:VCALENDAR