BEGIN:VCALENDAR
VERSION:2.0
PRODID:-//Mount Penn Preserve - ECPv6.15.20//NONSGML v1.0//EN
CALSCALE:GREGORIAN
METHOD:PUBLISH
X-ORIGINAL-URL:https://mtpennpreserve.org
X-WR-CALDESC:Events for Mount Penn Preserve
REFRESH-INTERVAL;VALUE=DURATION:PT1H
X-Robots-Tag:noindex
X-PUBLISHED-TTL:PT1H
BEGIN:VTIMEZONE
TZID:UTC
BEGIN:STANDARD
TZOFFSETFROM:+0000
TZOFFSETTO:+0000
TZNAME:UTC
DTSTART:20250101T000000
END:STANDARD
END:VTIMEZONE
BEGIN:VEVENT
DTSTART;TZID=UTC:20260404T180000
DTEND;TZID=UTC:20260404T210000
DTSTAMP:20260421T110909
CREATED:20260318T194808Z
LAST-MODIFIED:20260318T194808Z
UID:1441-1775325600-1775336400@mtpennpreserve.org
SUMMARY:Vik Raolji Acoustic at Stokesay Castle & The Knight's Pub
DESCRIPTION:Playing at Stokesay Castle & The Knight’s Pub in Reading\, PA! Come check out their great food\, drinks and listen to some acoustic renditions of your favorite songs!
URL:https://mtpennpreserve.org/event/vik-raolji-acoustic-at-stokesay-castle-the-knights-pub/
LOCATION:Stokesay Castle and The Knight’s Pub\, 141 Stokesay Castle Lane\, Reading\, PA\, 19606\, United States
CATEGORIES:Stokesay Castle and Knights Pub
ATTACH;FMTTYPE=image/jpeg:https://mtpennpreserve.org/wp-content/uploads/2026/03/Vik-Raolji.jpg
END:VEVENT
END:VCALENDAR